BEGIN:VCALENDAR
VERSION:2.0
PRODID:-//Hansetrucker Bremen e.V.//NONSGML kigkonsult.se iCalcreator 2.41.92//
CALSCALE:GREGORIAN
METHOD:PUBLISH
UID:33333839-3534-4532-b661-326532663162
X-WR-CALNAME:iCagenda
X-WR-CALDESC:Event Management Extension for Joomla!
X-WR-RELCALID:3E26604A-50F4-4449-8B3E-E4F4932D05B5
X-WR-TIMEZONE:UTC
BEGIN:VTIMEZONE
TZID:UTC
END:VTIMEZONE
BEGIN:VEVENT
UID:30306338-6665-4930-b737-343862336562
DTSTAMP:20260419T140734Z
CATEGORIES:Sonstiege Termine
CLASS:PUBLIC
DESCRIPTION;ALTREP="CID:<FFFF__=0ABBE548DFE235B58f9e8a93d@coffeebean.com>":
  \nModell-Truck Nord 2020\n\nDie Modelltrucktage Nord 2020 sind wieder ein
 e Veranstaltung von Modellbauer für Modellbauer.\nWir werden am 08./09.08.
 2020\, für ferngesteuerte Modellfahrzeuge der Maßstäbe 1:14 – 1:16\, ein s
 chönes Wochenende machen.\nDie Modelltrucktage Nord 2020 finden in der Eis
 sporthalle Adendorf bei Lüneburg statt. Uns steht dort eine Fläche von ca.
  1800m2 zur Verfügung\, auf der wir verschiedene Möglichkeiten zum Mitspie
 len anbieten wollen:\n\nCa. 8m3 Mutterboden wollen für eine interessante A
 ufgabenstellung bewegt werden. Um die Lastwagen und die Siebanlage zu bela
 den sind Radlader und Bagger willkommen.\n\n\nUm über 1.000 Europaletten u
 nd weitere andere Stückgüter am Bahnhof und den verschiedenen Lagerhallen 
 verladen zu können\, benötigen wir Mitspieler mit Gabelstaplern und beladb
 aren LKW´s.\n\n\nDer Schwerlastbereich wird mit Transporten vom Hafen zum 
 Baugebiet sicherliche einige Verkehrsbehinderungen verursachen.\n\n\nDie E
 insatzfahrzeuge haben aber nicht nur damit zu tun. Einige Überraschungen w
 erden hier die Polizei- Feuerwehr- und Rettungsfahrzeuge beschäftigen.\n\n
 \nFür Freunde der Landwirtschaft wird ein ausrechend großes Feld zum Pflüg
 en und Ähnlichem zur Verfügung stehen.\n\n \nWeitere Informationen zur Ver
 anstaltung und zur Anmeldung finden Sie in Kürze auf der Startseite oder u
 nter Aktuelles.\nDas Organisationsteam der\n - Truckmodelltage Nord -
DTSTART:20200809T110000Z
DTEND:20200809T170000Z
GEO:+53.289501;+10.457018
LOCATION:
ORGANIZER:
SEQUENCE:1
SUMMARY:Modell-Truck Nord 2020 2. Tag
TRANSP:OPAQUE
URL:https://hansetrucker.de/index.php/component/icagenda/28-modell-truck-no
 rd-2020-2-tag
END:VEVENT
END:VCALENDAR
