BEGIN:VCALENDAR
VERSION:2.0
PRODID:-//Hansetrucker Bremen e.V.//NONSGML kigkonsult.se iCalcreator 2.41.92//
CALSCALE:GREGORIAN
METHOD:PUBLISH
UID:39626130-3532-4530-b533-623030613665
X-WR-CALNAME:iCagenda
X-WR-CALDESC:Event Management Extension for Joomla!
X-WR-RELCALID:3E26604A-50F4-4449-8B3E-E4F4932D05B5
X-WR-TIMEZONE:UTC
BEGIN:VTIMEZONE
TZID:UTC
END:VTIMEZONE
BEGIN:VEVENT
UID:37386663-3536-4639-a162-636438323733
DTSTAMP:20260425T003708Z
CATEGORIES:Vereinstermine
CLASS:PUBLIC
DESCRIPTION:
DTSTART:20230420T190000Z
DTEND:20230420T190000Z
GEO:+53.046474;+8.894636
LOCATION:Seekamp's Gasthaus
ORGANIZER:
SEQUENCE:1
SUMMARY:Clubabend
TRANSP:OPAQUE
URL:https://hansetrucker.de/index.php/component/icagenda/57-clubabend?layou
 t=vcal
END:VEVENT
END:VCALENDAR
