BEGIN:VCALENDAR
VERSION:2.0
PRODID:-//Hansetrucker Bremen e.V.//NONSGML kigkonsult.se iCalcreator 2.41.92//
CALSCALE:GREGORIAN
METHOD:PUBLISH
UID:35373232-3366-4265-a432-633631626666
X-WR-CALNAME:iCagenda
X-WR-CALDESC:Event Management Extension for Joomla!
X-WR-RELCALID:3E26604A-50F4-4449-8B3E-E4F4932D05B5
X-WR-TIMEZONE:UTC
BEGIN:VTIMEZONE
TZID:UTC
END:VTIMEZONE
BEGIN:VEVENT
UID:37323065-3564-4137-b937-666631343962
DTSTAMP:20260424T125517Z
CATEGORIES:Vereinstermine
CLASS:PUBLIC
DESCRIPTION:
DTSTART:20230615T190000Z
DTEND:20230615T190000Z
GEO:+53.046474;+8.894636
LOCATION:Seekamp's Gasthaus
ORGANIZER:
SEQUENCE:1
SUMMARY:Clubabend
TRANSP:OPAQUE
URL:https://hansetrucker.de/index.php/component/icagenda/59-clubabend?layou
 t=vcal
END:VEVENT
END:VCALENDAR
