BEGIN:VCALENDAR
VERSION:2.0
PRODID:-//Hansetrucker Bremen e.V.//NONSGML kigkonsult.se iCalcreator 2.41.92//
CALSCALE:GREGORIAN
METHOD:PUBLISH
UID:66353662-3834-4365-a362-313063383633
X-WR-CALNAME:iCagenda
X-WR-CALDESC:Event Management Extension for Joomla!
X-WR-RELCALID:3E26604A-50F4-4449-8B3E-E4F4932D05B5
X-WR-TIMEZONE:UTC
BEGIN:VTIMEZONE
TZID:UTC
END:VTIMEZONE
BEGIN:VEVENT
UID:62633665-6133-4035-a331-383261643363
DTSTAMP:20260424T192219Z
CATEGORIES:Fahren mit Gästen
CLASS:PUBLIC
DESCRIPTION;ALTREP="CID:<FFFF__=0ABBE548DFE235B58f9e8a93d@coffeebean.com>":
  \nFahren mit Gästen im Juni 2023\n \nAuch im Jahr 2023 bieten wir wieder 
 die Möglichkeit an\, das für Freunde\, Interessierte und Mitglieder andere
 r Vereine mit uns auf unserem Pacour an der Pusdorfer Meile in Bremen-Wolt
 mershausen fahren können!\n \n- Meldet Euch bitte über unser Anmeldeformul
 ar vorher an!\n \nFür Gäste wird ein Startgeld von 5\,-€ / Tag als Unkoste
 npauschale erhoben.\nDamit kein Gastfahrer vergeblich anreist\, wird dring
 end empfohlen\, vorher  übers Kontaktformular anzufragen\, ob das Fahren a
 uf der Anlage an dem betreffenden Sonntag stattfindet!\n \nEure Hansetruck
 er\n \nBitte beachten!\nAnfahrt zu unserem Gelände!
DTSTART:20230618T100000Z
DTEND:20230618T170000Z
GEO:+53.072861;+8.76733
LOCATION:Vereinsgelände
ORGANIZER:
SEQUENCE:1
SUMMARY:Fahren mit Gästen
TRANSP:OPAQUE
URL:https://hansetrucker.de/index.php/component/icagenda/67-fahren-mit-gaes
 ten-2?layout=vcal
END:VEVENT
END:VCALENDAR
