BEGIN:VCALENDAR
VERSION:2.0
PRODID:-//Hansetrucker Bremen e.V.//NONSGML kigkonsult.se iCalcreator 2.41.92//
CALSCALE:GREGORIAN
METHOD:PUBLISH
UID:63303861-6361-4364-b530-383565336330
X-WR-CALNAME:iCagenda
X-WR-CALDESC:Event Management Extension for Joomla!
X-WR-RELCALID:3E26604A-50F4-4449-8B3E-E4F4932D05B5
X-WR-TIMEZONE:UTC
BEGIN:VTIMEZONE
TZID:UTC
END:VTIMEZONE
BEGIN:VEVENT
UID:63353731-6261-4538-b166-353731666563
DTSTAMP:20260422T221905Z
CATEGORIES:Jahreshauptversammlung
CLASS:PUBLIC
DESCRIPTION;ALTREP="CID:<FFFF__=0ABBE548DFE235B58f9e8a93d@coffeebean.com>":
  \nAchtung\n \nJahreshauptversammlung\n \nNur für Mittglieder!!!\n \n 
DTSTART:20240418T190000Z
DTEND:20240418T220000Z
GEO:+53.046444;+8.894447
LOCATION:Seekamp's Gasthaus
ORGANIZER:
SEQUENCE:1
SUMMARY:Jahreshauptversammlung nur für Mitglieder!
TRANSP:OPAQUE
URL:https://hansetrucker.de/index.php/component/icagenda/83-jahreshauptvers
 ammlung-nur-fuer-mitglieder-2?layout=vcal
END:VEVENT
END:VCALENDAR
