BEGIN:VCALENDAR
VERSION:2.0
PRODID:-//Hansetrucker Bremen e.V.//NONSGML kigkonsult.se iCalcreator 2.41.92//
CALSCALE:GREGORIAN
METHOD:PUBLISH
UID:35393466-3233-4336-a134-313439616562
X-WR-CALNAME:iCagenda
X-WR-CALDESC:Event Management Extension for Joomla!
X-WR-RELCALID:3E26604A-50F4-4449-8B3E-E4F4932D05B5
X-WR-TIMEZONE:UTC
BEGIN:VTIMEZONE
TZID:UTC
END:VTIMEZONE
BEGIN:VEVENT
UID:63353435-3038-4662-b639-656138613534
DTSTAMP:20260424T132116Z
CATEGORIES:Clubabend
CLASS:PUBLIC
DESCRIPTION:
DTSTART:20240516T190000Z
DTEND:20240516T210000Z
GEO:+53.046448;+8.894438
LOCATION:Seekamp's Gasthaus
ORGANIZER:
SEQUENCE:1
SUMMARY:Clubabend
TRANSP:OPAQUE
URL:https://hansetrucker.de/index.php/component/icagenda/85-clubabend-5?lay
 out=vcal
END:VEVENT
END:VCALENDAR
